Package: gage Version: 2.56.0 Command: /home/biocbuild/bbs-3.20-bioc/R/bin/R CMD build --keep-empty-dirs --no-resave-data --md5 gage StartedAt: 2025-02-03 17:29:18 -0500 (Mon, 03 Feb 2025) EndedAt: 2025-02-03 17:31:43 -0500 (Mon, 03 Feb 2025) EllapsedTime: 145.2 seconds RetCode: 0 Status: OK PackageFile: gage_2.56.0.tar.gz PackageFileSize: 4.333 MiB