Package: gage Version: 2.56.0 Command: /home/biocbuild/R/R/bin/R CMD build --keep-empty-dirs --no-resave-data gage StartedAt: 2025-02-03 23:42:56 -0000 (Mon, 03 Feb 2025) EndedAt: 2025-02-03 23:45:23 -0000 (Mon, 03 Feb 2025) EllapsedTime: 147.1 seconds RetCode: 0 Status: OK PackageFile: gage_2.56.0.tar.gz PackageFileSize: 4.315 MiB