Package: garfield Version: 1.34.0 Command: F:\biocbuild\bbs-3.20-bioc\R\bin\R.exe CMD check --no-multiarch --install=check:garfield.install-out.txt --library=F:\biocbuild\bbs-3.20-bioc\R\library --no-vignettes --timings garfield_1.34.0.tar.gz StartedAt: 2025-02-11 01:52:54 -0500 (Tue, 11 Feb 2025) EndedAt: 2025-02-11 01:53:49 -0500 (Tue, 11 Feb 2025) EllapsedTime: 55.1 seconds RetCode: 0 Status: WARNINGS CheckDir: garfield.Rcheck Warnings: 1