Package: garfield Version: 1.34.0 Command: /home/biocbuild/R/R/bin/R CMD build --keep-empty-dirs --no-resave-data garfield StartedAt: 2025-02-03 23:43:13 -0000 (Mon, 03 Feb 2025) EndedAt: 2025-02-03 23:43:30 -0000 (Mon, 03 Feb 2025) EllapsedTime: 17.0 seconds RetCode: 0 Status: OK PackageFile: garfield_1.34.0.tar.gz PackageFileSize: 300.7 KiB