Package: gatom Version: 1.4.0 Command: /Library/Frameworks/R.framework/Resources/bin/R CMD build --keep-empty-dirs --no-resave-data gatom StartedAt: 2025-02-03 19:03:59 -0500 (Mon, 03 Feb 2025) EndedAt: 2025-02-03 19:14:10 -0500 (Mon, 03 Feb 2025) EllapsedTime: 610.7 seconds RetCode: 0 Status: OK PackageFile: gatom_1.4.0.tar.gz PackageFileSize: 1.609 MiB