Package: gatom Version: 1.4.0 Command: /Library/Frameworks/R.framework/Resources/bin/R CMD check --install=check:gatom.install-out.txt --library=/Library/Frameworks/R.framework/Resources/library --no-vignettes --timings gatom_1.4.0.tar.gz StartedAt: 2025-02-04 03:56:26 -0500 (Tue, 04 Feb 2025) EndedAt: 2025-02-04 04:03:28 -0500 (Tue, 04 Feb 2025) EllapsedTime: 421.9 seconds RetCode: 1 Status: ERROR CheckDir: gatom.Rcheck Warnings: NA