Package: gatom Version: 1.4.0 Command: /Library/Frameworks/R.framework/Resources/bin/R CMD INSTALL gatom StartedAt: 2025-02-10 15:50:38 -0500 (Mon, 10 Feb 2025) EndedAt: 2025-02-10 15:51:14 -0500 (Mon, 10 Feb 2025) EllapsedTime: 36.1 seconds RetCode: 0 Status: OK