Package: gatom Version: 1.4.0 Command: F:\biocbuild\bbs-3.20-bioc\R\bin\R.exe CMD INSTALL gatom StartedAt: 2025-02-03 15:58:17 -0500 (Mon, 03 Feb 2025) EndedAt: 2025-02-03 15:58:56 -0500 (Mon, 03 Feb 2025) EllapsedTime: 39.3 seconds RetCode: 0 Status: OK