Package: gatom Version: 1.4.0 Command: /home/biocbuild/R/R/bin/R CMD build --keep-empty-dirs --no-resave-data gatom StartedAt: 2025-02-03 23:43:30 -0000 (Mon, 03 Feb 2025) EndedAt: 2025-02-03 23:52:35 -0000 (Mon, 03 Feb 2025) EllapsedTime: 545.2 seconds RetCode: 0 Status: OK PackageFile: gatom_1.4.0.tar.gz PackageFileSize: 1.87 MiB