Package: gcapc Version: 1.30.0 Command: /Library/Frameworks/R.framework/Resources/bin/R CMD build --keep-empty-dirs --no-resave-data gcapc StartedAt: 2025-02-11 00:05:33 -0500 (Tue, 11 Feb 2025) EndedAt: 2025-02-11 00:09:29 -0500 (Tue, 11 Feb 2025) EllapsedTime: 236.5 seconds RetCode: 0 Status: OK PackageFile: gcapc_1.30.0.tar.gz PackageFileSize: 3.791 MiB