Package: gcapc Version: 1.30.0 Command: rm -rf gcapc.buildbin-libdir && mkdir gcapc.buildbin-libdir && /Users/biocbuild/BBS/utils/build-universal.sh gcapc_1.30.0.tar.gz /Library/Frameworks/R.framework/Resources/bin/R gcapc.buildbin-libdir StartedAt: 2025-02-11 13:16:34 -0500 (Tue, 11 Feb 2025) EndedAt: 2025-02-11 13:18:23 -0500 (Tue, 11 Feb 2025) EllapsedTime: 109.2 seconds RetCode: 0 Status: OK PackageFile: gcapc_1.30.0.tgz PackageFileSize: 3.868 MiB