Package: gcapc Version: 1.30.0 Command: /home/biocbuild/bbs-3.20-bioc/R/bin/R CMD check --install=check:gcapc.install-out.txt --library=/home/biocbuild/bbs-3.20-bioc/R/site-library --timings gcapc_1.30.0.tar.gz StartedAt: 2025-02-03 22:31:40 -0500 (Mon, 03 Feb 2025) EndedAt: 2025-02-03 22:40:53 -0500 (Mon, 03 Feb 2025) EllapsedTime: 552.7 seconds RetCode: 0 Status: OK CheckDir: gcapc.Rcheck Warnings: 0