Package: gcapc Version: 1.30.0 Command: rm -rf gcapc.buildbin-libdir && mkdir gcapc.buildbin-libdir && F:\biocbuild\bbs-3.20-bioc\R\bin\R.exe CMD INSTALL --build --library=gcapc.buildbin-libdir gcapc_1.30.0.tar.gz StartedAt: 2025-02-11 08:29:45 -0500 (Tue, 11 Feb 2025) EndedAt: 2025-02-11 08:30:23 -0500 (Tue, 11 Feb 2025) EllapsedTime: 37.6 seconds RetCode: 0 Status: OK PackageFile: gcapc_1.30.0.zip PackageFileSize: 3.683 MiB