Package: gcapc Version: 1.30.0 Command: /home/biocbuild/R/R/bin/R CMD INSTALL gcapc StartedAt: 2025-02-03 20:41:35 -0000 (Mon, 03 Feb 2025) EndedAt: 2025-02-03 20:42:14 -0000 (Mon, 03 Feb 2025) EllapsedTime: 38.6 seconds RetCode: 0 Status: OK