Package: gcatest Version: 2.6.0 Command: /Library/Frameworks/R.framework/Resources/bin/R CMD build --keep-empty-dirs --no-resave-data gcatest StartedAt: 2025-02-03 23:57:39 -0500 (Mon, 03 Feb 2025) EndedAt: 2025-02-03 23:58:20 -0500 (Mon, 03 Feb 2025) EllapsedTime: 41.1 seconds RetCode: 0 Status: OK PackageFile: gcatest_2.6.0.tar.gz PackageFileSize: 2.147 MiB