Package: gcatest Version: 2.6.0 Command: /Library/Frameworks/R.framework/Resources/bin/R CMD INSTALL gcatest StartedAt: 2025-02-10 15:10:44 -0500 (Mon, 10 Feb 2025) EndedAt: 2025-02-10 15:10:54 -0500 (Mon, 10 Feb 2025) EllapsedTime: 10.4 seconds RetCode: 0 Status: OK