Package: gdsfmt Version: 1.42.1 Command: rm -rf gdsfmt.buildbin-libdir && mkdir gdsfmt.buildbin-libdir && /Users/biocbuild/BBS/utils/build-universal.sh gdsfmt_1.42.1.tar.gz /Library/Frameworks/R.framework/Resources/bin/R gdsfmt.buildbin-libdir StartedAt: 2025-02-05 15:56:50 -0500 (Wed, 05 Feb 2025) EndedAt: 2025-02-05 16:00:28 -0500 (Wed, 05 Feb 2025) EllapsedTime: 218.3 seconds RetCode: 0 Status: OK PackageFile: gdsfmt_1.42.1.tgz PackageFileSize: 1.728 MiB