Package: gdsfmt Version: 1.42.1 Command: /Library/Frameworks/R.framework/Resources/bin/R CMD build --keep-empty-dirs --no-resave-data gdsfmt StartedAt: 2025-02-04 00:01:34 -0500 (Tue, 04 Feb 2025) EndedAt: 2025-02-04 00:04:57 -0500 (Tue, 04 Feb 2025) EllapsedTime: 202.5 seconds RetCode: 0 Status: OK PackageFile: gdsfmt_1.42.1.tar.gz PackageFileSize: 2.796 MiB