Package: gdsfmt Version: 1.42.1 Command: /home/biocbuild/bbs-3.20-bioc/R/bin/R CMD check --install=check:gdsfmt.install-out.txt --library=/home/biocbuild/bbs-3.20-bioc/R/site-library --timings gdsfmt_1.42.1.tar.gz StartedAt: 2025-02-03 22:34:12 -0500 (Mon, 03 Feb 2025) EndedAt: 2025-02-03 22:36:19 -0500 (Mon, 03 Feb 2025) EllapsedTime: 127.1 seconds RetCode: 0 Status: OK CheckDir: gdsfmt.Rcheck Warnings: 0