Package: gdsfmt Version: 1.42.1 Command: chmod a+r gdsfmt -R && F:\biocbuild\bbs-3.20-bioc\R\bin\R.exe CMD build --keep-empty-dirs --no-resave-data gdsfmt StartedAt: 2025-02-03 19:20:16 -0500 (Mon, 03 Feb 2025) EndedAt: 2025-02-03 19:24:36 -0500 (Mon, 03 Feb 2025) EllapsedTime: 259.4 seconds RetCode: 0 Status: OK PackageFile: gdsfmt_1.42.1.tar.gz PackageFileSize: 2.967 MiB