Package: gdsfmt Version: 1.42.1 Command: F:\biocbuild\bbs-3.20-bioc\R\bin\R.exe CMD INSTALL gdsfmt StartedAt: 2025-02-03 15:31:16 -0500 (Mon, 03 Feb 2025) EndedAt: 2025-02-03 15:35:52 -0500 (Mon, 03 Feb 2025) EllapsedTime: 275.7 seconds RetCode: 0 Status: OK