Package: gdsfmt Version: 1.42.1 Command: /home/biocbuild/R/R/bin/R CMD check --install=check:gdsfmt.install-out.txt --library=/home/biocbuild/R/R/site-library --no-vignettes --timings gdsfmt_1.42.1.tar.gz StartedAt: 2025-02-04 07:12:00 -0000 (Tue, 04 Feb 2025) EndedAt: 2025-02-04 07:14:29 -0000 (Tue, 04 Feb 2025) EllapsedTime: 149.1 seconds RetCode: 0 Status: WARNINGS CheckDir: gdsfmt.Rcheck Warnings: 1