Package: gdsfmt Version: 1.42.1 Command: /home/biocbuild/R/R/bin/R CMD INSTALL gdsfmt StartedAt: 2025-02-10 20:08:34 -0000 (Mon, 10 Feb 2025) EndedAt: 2025-02-10 20:13:46 -0000 (Mon, 10 Feb 2025) EllapsedTime: 312.2 seconds RetCode: 0 Status: OK