Package: gemma.R Version: 3.2.1 Command: /Library/Frameworks/R.framework/Resources/bin/R CMD check --install=check:gemma.R.install-out.txt --library=/Library/Frameworks/R.framework/Resources/library --no-vignettes --timings gemma.R_3.2.1.tar.gz StartedAt: 2025-02-11 20:12:37 -0500 (Tue, 11 Feb 2025) EndedAt: 2025-02-11 20:20:45 -0500 (Tue, 11 Feb 2025) EllapsedTime: 488.8 seconds RetCode: 0 Status: OK CheckDir: gemma.R.Rcheck Warnings: 0