Package: gemma.R Version: 3.2.1 Command: chmod a+r gemma.R -R && F:\biocbuild\bbs-3.20-bioc\R\bin\R.exe CMD build --keep-empty-dirs --no-resave-data gemma.R StartedAt: 2025-02-10 19:14:00 -0500 (Mon, 10 Feb 2025) EndedAt: 2025-02-10 19:22:36 -0500 (Mon, 10 Feb 2025) EllapsedTime: 515.9 seconds RetCode: 0 Status: OK PackageFile: gemma.R_3.2.1.tar.gz PackageFileSize: 1.7 MiB