Package: gemma.R Version: 3.2.1 Command: /home/biocbuild/R/R/bin/R CMD build --keep-empty-dirs --no-resave-data gemma.R StartedAt: 2025-02-03 23:45:59 -0000 (Mon, 03 Feb 2025) EndedAt: 2025-02-03 23:52:08 -0000 (Mon, 03 Feb 2025) EllapsedTime: 369.2 seconds RetCode: 0 Status: OK PackageFile: gemma.R_3.2.1.tar.gz PackageFileSize: 2.068 MiB