Package: gemma.R Version: 3.2.1 Command: /home/biocbuild/R/R/bin/R CMD check --install=check:gemma.R.install-out.txt --library=/home/biocbuild/R/R/site-library --no-vignettes --timings gemma.R_3.2.1.tar.gz StartedAt: 2025-02-11 06:25:29 -0000 (Tue, 11 Feb 2025) EndedAt: 2025-02-11 06:36:30 -0000 (Tue, 11 Feb 2025) EllapsedTime: 661.5 seconds RetCode: 0 Status: OK CheckDir: gemma.R.Rcheck Warnings: 0