Package: genArise Version: 1.82.0 Command: /Library/Frameworks/R.framework/Resources/bin/R CMD build --keep-empty-dirs --no-resave-data genArise StartedAt: 2025-02-10 19:02:48 -0500 (Mon, 10 Feb 2025) EndedAt: 2025-02-10 19:03:22 -0500 (Mon, 10 Feb 2025) EllapsedTime: 33.3 seconds RetCode: 0 Status: OK PackageFile: genArise_1.82.0.tar.gz PackageFileSize: 1.023 MiB