Package: genArise Version: 1.82.0 Command: /home/biocbuild/bbs-3.20-bioc/R/bin/R CMD INSTALL genArise StartedAt: 2025-02-03 15:16:15 -0500 (Mon, 03 Feb 2025) EndedAt: 2025-02-03 15:16:33 -0500 (Mon, 03 Feb 2025) EllapsedTime: 17.7 seconds RetCode: 0 Status: OK