Package: genArise Version: 1.82.0 Command: rm -rf genArise.buildbin-libdir && mkdir genArise.buildbin-libdir && F:\biocbuild\bbs-3.20-bioc\R\bin\R.exe CMD INSTALL --build --library=genArise.buildbin-libdir genArise_1.82.0.tar.gz StartedAt: 2025-02-04 08:32:49 -0500 (Tue, 04 Feb 2025) EndedAt: 2025-02-04 08:33:16 -0500 (Tue, 04 Feb 2025) EllapsedTime: 26.1 seconds RetCode: 0 Status: OK PackageFile: genArise_1.82.0.zip PackageFileSize: 1.047 MiB