Package: genArise Version: 1.82.0 Command: chmod a+r genArise -R && F:\biocbuild\bbs-3.20-bioc\R\bin\R.exe CMD build --keep-empty-dirs --no-resave-data genArise StartedAt: 2025-02-03 19:20:54 -0500 (Mon, 03 Feb 2025) EndedAt: 2025-02-03 19:21:22 -0500 (Mon, 03 Feb 2025) EllapsedTime: 27.8 seconds RetCode: 0 Status: OK PackageFile: genArise_1.82.0.tar.gz PackageFileSize: 843.7 KiB