Package: genArise Version: 1.82.0 Command: F:\biocbuild\bbs-3.20-bioc\R\bin\R.exe CMD check --no-multiarch --install=check:genArise.install-out.txt --library=F:\biocbuild\bbs-3.20-bioc\R\library --no-vignettes --timings genArise_1.82.0.tar.gz StartedAt: 2025-02-11 01:58:07 -0500 (Tue, 11 Feb 2025) EndedAt: 2025-02-11 01:59:00 -0500 (Tue, 11 Feb 2025) EllapsedTime: 53.2 seconds RetCode: 0 Status: WARNINGS CheckDir: genArise.Rcheck Warnings: 1