Package: genArise Version: 1.82.0 Command: /home/biocbuild/R/R/bin/R CMD check --install=check:genArise.install-out.txt --library=/home/biocbuild/R/R/site-library --no-vignettes --timings genArise_1.82.0.tar.gz StartedAt: 2025-02-11 06:25:40 -0000 (Tue, 11 Feb 2025) EndedAt: 2025-02-11 06:26:15 -0000 (Tue, 11 Feb 2025) EllapsedTime: 35.0 seconds RetCode: 0 Status: WARNINGS CheckDir: genArise.Rcheck Warnings: 1