Package: geneAttribution Version: 1.32.0 Command: rm -rf geneAttribution.buildbin-libdir && mkdir geneAttribution.buildbin-libdir && /Users/biocbuild/BBS/utils/build-universal.sh geneAttribution_1.32.0.tar.gz /Library/Frameworks/R.framework/Resources/bin/R geneAttribution.buildbin-libdir StartedAt: 2025-02-05 15:57:19 -0500 (Wed, 05 Feb 2025) EndedAt: 2025-02-05 15:58:03 -0500 (Wed, 05 Feb 2025) EllapsedTime: 43.5 seconds RetCode: 0 Status: OK PackageFile: geneAttribution_1.32.0.tgz PackageFileSize: 63.78 KiB