Package: geneAttribution Version: 1.32.0 Command: /Library/Frameworks/R.framework/Resources/bin/R CMD build --keep-empty-dirs --no-resave-data geneAttribution StartedAt: 2025-02-04 00:02:58 -0500 (Tue, 04 Feb 2025) EndedAt: 2025-02-04 00:03:43 -0500 (Tue, 04 Feb 2025) EllapsedTime: 44.2 seconds RetCode: 0 Status: OK PackageFile: geneAttribution_1.32.0.tar.gz PackageFileSize: 39.2 KiB