Package: geneAttribution Version: 1.32.0 Command: /Library/Frameworks/R.framework/Resources/bin/R CMD check --install=check:geneAttribution.install-out.txt --library=/Library/Frameworks/R.framework/Resources/library --no-vignettes --timings geneAttribution_1.32.0.tar.gz StartedAt: 2025-02-04 20:33:47 -0500 (Tue, 04 Feb 2025) EndedAt: 2025-02-04 20:38:31 -0500 (Tue, 04 Feb 2025) EllapsedTime: 283.6 seconds RetCode: 0 Status: OK CheckDir: geneAttribution.Rcheck Warnings: 0