Package: geneAttribution Version: 1.32.0 Command: /Library/Frameworks/R.framework/Resources/bin/R CMD INSTALL geneAttribution StartedAt: 2025-02-10 16:02:54 -0500 (Mon, 10 Feb 2025) EndedAt: 2025-02-10 16:03:36 -0500 (Mon, 10 Feb 2025) EllapsedTime: 41.8 seconds RetCode: 0 Status: OK