Package: geneAttribution Version: 1.32.0 Command: rm -rf geneAttribution.buildbin-libdir && mkdir geneAttribution.buildbin-libdir && /Users/biocbuild/BBS/utils/build-universal.sh geneAttribution_1.32.0.tar.gz /Library/Frameworks/R.framework/Resources/bin/R geneAttribution.buildbin-libdir StartedAt: 2025-02-04 12:59:54 -0500 (Tue, 04 Feb 2025) EndedAt: 2025-02-04 13:01:25 -0500 (Tue, 04 Feb 2025) EllapsedTime: 91.4 seconds RetCode: 0 Status: OK PackageFile: geneAttribution_1.32.0.tgz PackageFileSize: 63.82 KiB