Package: geneAttribution Version: 1.32.0 Command: /Library/Frameworks/R.framework/Resources/bin/R CMD build --keep-empty-dirs --no-resave-data geneAttribution StartedAt: 2025-02-03 19:06:07 -0500 (Mon, 03 Feb 2025) EndedAt: 2025-02-03 19:07:20 -0500 (Mon, 03 Feb 2025) EllapsedTime: 73.1 seconds RetCode: 0 Status: OK PackageFile: geneAttribution_1.32.0.tar.gz PackageFileSize: 39.2 KiB