Package: geneAttribution Version: 1.32.0 Command: /home/biocbuild/bbs-3.20-bioc/R/bin/R CMD build --keep-empty-dirs --no-resave-data --md5 geneAttribution StartedAt: 2025-02-10 17:23:25 -0500 (Mon, 10 Feb 2025) EndedAt: 2025-02-10 17:23:59 -0500 (Mon, 10 Feb 2025) EllapsedTime: 34.1 seconds RetCode: 0 Status: OK PackageFile: geneAttribution_1.32.0.tar.gz PackageFileSize: 39.71 KiB