Package: geneAttribution Version: 1.32.0 Command: /home/biocbuild/bbs-3.20-bioc/R/bin/R CMD INSTALL geneAttribution StartedAt: 2025-02-03 15:34:55 -0500 (Mon, 03 Feb 2025) EndedAt: 2025-02-03 15:35:28 -0500 (Mon, 03 Feb 2025) EllapsedTime: 33.2 seconds RetCode: 0 Status: OK