Package: geneAttribution Version: 1.32.0 Command: chmod a+r geneAttribution -R && F:\biocbuild\bbs-3.20-bioc\R\bin\R.exe CMD build --keep-empty-dirs --no-resave-data geneAttribution StartedAt: 2025-02-03 19:20:59 -0500 (Mon, 03 Feb 2025) EndedAt: 2025-02-03 19:21:40 -0500 (Mon, 03 Feb 2025) EllapsedTime: 40.5 seconds RetCode: 0 Status: OK PackageFile: geneAttribution_1.32.0.tar.gz PackageFileSize: 39.2 KiB