Package: geneAttribution Version: 1.32.0 Command: /home/biocbuild/R/R/bin/R CMD build --keep-empty-dirs --no-resave-data geneAttribution StartedAt: 2025-02-03 23:46:05 -0000 (Mon, 03 Feb 2025) EndedAt: 2025-02-03 23:46:48 -0000 (Mon, 03 Feb 2025) EllapsedTime: 43.0 seconds RetCode: 0 Status: OK PackageFile: geneAttribution_1.32.0.tar.gz PackageFileSize: 39.81 KiB