Package: geneClassifiers Version: 1.30.0 Command: /Library/Frameworks/R.framework/Resources/bin/R CMD build --keep-empty-dirs --no-resave-data geneClassifiers StartedAt: 2025-02-04 00:04:10 -0500 (Tue, 04 Feb 2025) EndedAt: 2025-02-04 00:04:28 -0500 (Tue, 04 Feb 2025) EllapsedTime: 17.8 seconds RetCode: 0 Status: OK PackageFile: geneClassifiers_1.30.0.tar.gz PackageFileSize: 1.847 MiB