Package: geneClassifiers Version: 1.30.0 Command: rm -rf geneClassifiers.buildbin-libdir && mkdir geneClassifiers.buildbin-libdir && /Users/biocbuild/BBS/utils/build-universal.sh geneClassifiers_1.30.0.tar.gz /Library/Frameworks/R.framework/Resources/bin/R geneClassifiers.buildbin-libdir StartedAt: 2025-02-11 13:18:07 -0500 (Tue, 11 Feb 2025) EndedAt: 2025-02-11 13:18:32 -0500 (Tue, 11 Feb 2025) EllapsedTime: 25.2 seconds RetCode: 0 Status: OK PackageFile: geneClassifiers_1.30.0.tgz PackageFileSize: 1.885 MiB