Package: geneClassifiers Version: 1.30.0 Command: /Library/Frameworks/R.framework/Resources/bin/R CMD build --keep-empty-dirs --no-resave-data geneClassifiers StartedAt: 2025-02-10 19:02:59 -0500 (Mon, 10 Feb 2025) EndedAt: 2025-02-10 19:03:33 -0500 (Mon, 10 Feb 2025) EllapsedTime: 33.5 seconds RetCode: 0 Status: OK PackageFile: geneClassifiers_1.30.0.tar.gz PackageFileSize: 1.847 MiB