Package: geneClassifiers Version: 1.30.0 Command: /home/biocbuild/bbs-3.20-bioc/R/bin/R CMD check --install=check:geneClassifiers.install-out.txt --library=/home/biocbuild/bbs-3.20-bioc/R/site-library --timings geneClassifiers_1.30.0.tar.gz StartedAt: 2025-02-10 22:27:43 -0500 (Mon, 10 Feb 2025) EndedAt: 2025-02-10 22:28:20 -0500 (Mon, 10 Feb 2025) EllapsedTime: 37.0 seconds RetCode: 0 Status: OK CheckDir: geneClassifiers.Rcheck Warnings: 0