Package: geneClassifiers Version: 1.30.0 Command: /home/biocbuild/bbs-3.20-bioc/R/bin/R CMD INSTALL geneClassifiers StartedAt: 2025-02-10 15:12:12 -0500 (Mon, 10 Feb 2025) EndedAt: 2025-02-10 15:12:21 -0500 (Mon, 10 Feb 2025) EllapsedTime: 8.5 seconds RetCode: 0 Status: OK