Package: geneClassifiers Version: 1.30.0 Command: rm -rf geneClassifiers.buildbin-libdir && mkdir geneClassifiers.buildbin-libdir && F:\biocbuild\bbs-3.20-bioc\R\bin\R.exe CMD INSTALL --build --library=geneClassifiers.buildbin-libdir geneClassifiers_1.30.0.tar.gz StartedAt: 2025-02-04 08:33:09 -0500 (Tue, 04 Feb 2025) EndedAt: 2025-02-04 08:35:03 -0500 (Tue, 04 Feb 2025) EllapsedTime: 113.6 seconds RetCode: 0 Status: OK PackageFile: geneClassifiers_1.30.0.zip PackageFileSize: 1.744 MiB