Package: geneClassifiers Version: 1.30.0 Command: /home/biocbuild/R/R/bin/R CMD INSTALL geneClassifiers StartedAt: 2025-02-03 20:22:03 -0000 (Mon, 03 Feb 2025) EndedAt: 2025-02-03 20:22:28 -0000 (Mon, 03 Feb 2025) EllapsedTime: 24.9 seconds RetCode: 0 Status: OK